BEGIN:VCALENDAR
VERSION:2.0
PRODID:-//Hotel Castelar - ECPv6.15.20//NONSGML v1.0//EN
CALSCALE:GREGORIAN
METHOD:PUBLISH
X-WR-CALNAME:Hotel Castelar
X-ORIGINAL-URL:https://hotelcastelar.com.br
X-WR-CALDESC:Eventos para Hotel Castelar
REFRESH-INTERVAL;VALUE=DURATION:PT1H
X-Robots-Tag:noindex
X-PUBLISHED-TTL:PT1H
BEGIN:VTIMEZONE
TZID:America/Sao_Paulo
BEGIN:STANDARD
TZOFFSETFROM:-0300
TZOFFSETTO:-0300
TZNAME:-03
DTSTART:20250101T000000
END:STANDARD
END:VTIMEZONE
BEGIN:VEVENT
DTSTART;VALUE=DATE:20260915
DTEND;VALUE=DATE:20260919
DTSTAMP:20260425T081045
CREATED:20220725T030000Z
LAST-MODIFIED:20260224T111931Z
UID:264-1789430400-1789775999@hotelcastelar.com.br
SUMMARY:Expolux
DESCRIPTION:O evento mais importante do setor de iluminação no Brasil\nA feira Expolux é considerada o principal evento para as empresas de iluminação. \nA feira se concentra em empresas de iluminação\, lojistas\, varejistas\, especificadores\, designers de interiores e administradores públicos. \nO que isto significa para você? Significa excelentes oportunidades de geração de negócios\, atualização profissional e relacionamento com clientes/parceiros! \nHotel próximo da EXPOLUX\nO Hotel Castelar oferece tarifas promocionais para a sua hospedagem em São Paulo próximo da EXPOLUX. As diárias incluem café da manhã completo\, Wi-Fi e impostos. Não cobramos taxas. \n \n\nAs informações aqui reunidas servem apenas como referência. Uma vez que tanto as datas e horários quanto o local de realização do evento poderão sofrer alterações sem prévio aviso\, sugerimos consultar o site oficial do evento para obter informações atualizadas. O Hotel Castelar não se responsabiliza por eventuais divergências nos dados informados.
URL:https://hotelcastelar.com.br/evento/expolux/
LOCATION:Expo Center Norte\, Rua José Bernardo Pinto\, 333\, São Paulo\, SP\, 02055-000\, Brazil
CATEGORIES:Feiras
ATTACH;FMTTYPE=image/jpeg:https://hotelcastelar.com.br/wp-content/uploads/2024/07/Expolux.jpg
END:VEVENT
END:VCALENDAR