BEGIN:VCALENDAR
VERSION:2.0
PRODID:-//Hotel Castelar - ECPv6.15.20//NONSGML v1.0//EN
CALSCALE:GREGORIAN
METHOD:PUBLISH
X-WR-CALNAME:Hotel Castelar
X-ORIGINAL-URL:https://hotelcastelar.com.br
X-WR-CALDESC:Eventos para Hotel Castelar
REFRESH-INTERVAL;VALUE=DURATION:PT1H
X-Robots-Tag:noindex
X-PUBLISHED-TTL:PT1H
BEGIN:VTIMEZONE
TZID:America/Sao_Paulo
BEGIN:STANDARD
TZOFFSETFROM:-0300
TZOFFSETTO:-0300
TZNAME:-03
DTSTART:20250101T000000
END:STANDARD
END:VTIMEZONE
BEGIN:VEVENT
DTSTART;VALUE=DATE:20260623
DTEND;VALUE=DATE:20260626
DTSTAMP:20260425T080857
CREATED:20211230T030000Z
LAST-MODIFIED:20260224T111750Z
UID:237-1782172800-1782431999@hotelcastelar.com.br
SUMMARY:Expobor
DESCRIPTION:Feira Internacional de Tecnologia\, Máquinas e Artefatos de Borracha\nA Expobor é\, desde 1996\, a principal feira de negócios do setor. Produtos\, máquinas\, soluções e inovações para a transformação e produção de artefatos de borracha nos mais variados segmentos industriais: \n• Indústria Automobilística • Indústria da Mobilidade • Indústria Calçadista • Indústria Petrolífera • Indústria Pneumática • Indústria Siderúrgica • Indústria Eletroeletrônica • Indústria da Construção Civil • Indústria Hospitalar • E muitas outras! \nHotel próximo da EXPOBOR\nO Hotel Castelar oferece tarifas promocionais para a sua hospedagem em São Paulo próximo da EXPOBOR. As diárias incluem café da manhã completo\, Wi-Fi e impostos. Não cobramos taxas. \n \n\nAs informações aqui reunidas servem apenas como referência. Uma vez que tanto as datas e horários quanto o local de realização do evento poderão sofrer alterações sem prévio aviso\, sugerimos consultar o site oficial do evento para obter informações atualizadas. O Hotel Castelar não se responsabiliza por eventuais divergências nos dados informados.
URL:https://hotelcastelar.com.br/evento/expobor/
LOCATION:Expo Center Norte\, Rua José Bernardo Pinto\, 333\, São Paulo\, SP\, 02055-000\, Brazil
CATEGORIES:Feiras
ATTACH;FMTTYPE=image/jpeg:https://hotelcastelar.com.br/wp-content/uploads/2024/07/Expobor-1.jpg
ORGANIZER;CN="Francal Feiras":MAILTO:feiras@francal.com.br
END:VEVENT
END:VCALENDAR